BEGIN:VCALENDAR
VERSION:2.0
PRODID:-//Fairhall School - ECPv5.2.1//NONSGML v1.0//EN
CALSCALE:GREGORIAN
METHOD:PUBLISH
X-WR-CALNAME:Fairhall School
X-ORIGINAL-URL:https://fairhall.school.nz
X-WR-CALDESC:Events for Fairhall School
BEGIN:VTIMEZONE
TZID:Pacific/Auckland
BEGIN:STANDARD
TZOFFSETFROM:+1300
TZOFFSETTO:+1200
TZNAME:NZST
DTSTART:20190406T140000
END:STANDARD
BEGIN:DAYLIGHT
TZOFFSETFROM:+1200
TZOFFSETTO:+1300
TZNAME:NZDT
DTSTART:20190928T140000
END:DAYLIGHT
END:VTIMEZONE
BEGIN:VEVENT
DTSTART;TZID=Pacific/Auckland:20190412T140000
DTEND;TZID=Pacific/Auckland:20190412T143000
DTSTAMP:20210120T183542
CREATED:20190405T023341Z
LAST-MODIFIED:20190405T023341Z
UID:355-1555077600-1555079400@fairhall.school.nz
SUMMARY:Quality Awards
DESCRIPTION:Term 1 Quality Awards – Friday 12th April.  2pm. \nFairhall Community Hall
URL:https://fairhall.school.nz/event/quality-awards/
END:VEVENT
END:VCALENDAR