BEGIN:VCALENDAR
VERSION:2.0
PRODID:-//Fairhall School - ECPv5.2.1//NONSGML v1.0//EN
CALSCALE:GREGORIAN
METHOD:PUBLISH
X-WR-CALNAME:Fairhall School
X-ORIGINAL-URL:https://fairhall.school.nz
X-WR-CALDESC:Events for Fairhall School
BEGIN:VTIMEZONE
TZID:Pacific/Auckland
BEGIN:STANDARD
TZOFFSETFROM:+1300
TZOFFSETTO:+1200
TZNAME:NZST
DTSTART:20180331T140000
END:STANDARD
BEGIN:DAYLIGHT
TZOFFSETFROM:+1200
TZOFFSETTO:+1300
TZNAME:NZDT
DTSTART:20180929T140000
END:DAYLIGHT
END:VTIMEZONE
BEGIN:VEVENT
DTSTART;VALUE=DATE:20181029
DTEND;VALUE=DATE:20181030
DTSTAMP:20210120T183406
CREATED:20181018T225607Z
LAST-MODIFIED:20181018T225607Z
UID:216-1540771200-1540857599@fairhall.school.nz
SUMMARY:Marlborough Anniversary Weekend
DESCRIPTION:
URL:https://fairhall.school.nz/event/marlborough-anniversary-weekend/
CATEGORIES:Holidays / Teacher Only Days
END:VEVENT
END:VCALENDAR