BEGIN:VCALENDAR
VERSION:2.0
PRODID:-//Fairhall School - ECPv5.2.1//NONSGML v1.0//EN
CALSCALE:GREGORIAN
METHOD:PUBLISH
X-WR-CALNAME:Fairhall School
X-ORIGINAL-URL:https://fairhall.school.nz
X-WR-CALDESC:Events for Fairhall School
BEGIN:VTIMEZONE
TZID:Pacific/Auckland
BEGIN:STANDARD
TZOFFSETFROM:+1300
TZOFFSETTO:+1200
TZNAME:NZST
DTSTART:20190406T140000
END:STANDARD
BEGIN:DAYLIGHT
TZOFFSETFROM:+1200
TZOFFSETTO:+1300
TZNAME:NZDT
DTSTART:20190928T140000
END:DAYLIGHT
END:VTIMEZONE
BEGIN:VEVENT
DTSTART;TZID=Pacific/Auckland:20190411T121500
DTEND;TZID=Pacific/Auckland:20190411T130000
DTSTAMP:20210120T183424
CREATED:20190407T214912Z
LAST-MODIFIED:20190407T214912Z
UID:368-1554984900-1554987600@fairhall.school.nz
SUMMARY:Friends of Fairhall School (FoFS) End of Term BBQ
DESCRIPTION:Sausages and Bread – $2.00 & Home Baking \nGluten Free and Vegetarian Options Available \n 
URL:https://fairhall.school.nz/event/friends-of-fairhall-school-fofs-end-of-term-bbq/
END:VEVENT
END:VCALENDAR