BEGIN:VCALENDAR
VERSION:2.0
PRODID:-//Fairhall School - ECPv5.2.1//NONSGML v1.0//EN
CALSCALE:GREGORIAN
METHOD:PUBLISH
X-WR-CALNAME:Fairhall School
X-ORIGINAL-URL:https://fairhall.school.nz
X-WR-CALDESC:Events for Fairhall School
BEGIN:VTIMEZONE
TZID:Pacific/Auckland
BEGIN:STANDARD
TZOFFSETFROM:+1300
TZOFFSETTO:+1200
TZNAME:NZST
DTSTART:20200404T140000
END:STANDARD
BEGIN:DAYLIGHT
TZOFFSETFROM:+1200
TZOFFSETTO:+1300
TZNAME:NZDT
DTSTART:20200926T140000
END:DAYLIGHT
END:VTIMEZONE
BEGIN:VEVENT
DTSTART;TZID=Pacific/Auckland:20200227T140000
DTEND;TZID=Pacific/Auckland:20200227T143000
DTSTAMP:20210120T183507
CREATED:20200223T201843Z
LAST-MODIFIED:20200223T201956Z
UID:718-1582812000-1582813800@fairhall.school.nz
SUMMARY:FOFS Meeting
DESCRIPTION:Friends of Fairhall School parent group meeting. New members are welcome to attend and lend your support to pastoral care and fund-raising activity within the Fairhall School Community.
URL:https://fairhall.school.nz/event/fofs-meeting/
LOCATION:Blenheim\, Marlborough\, 7201\, New Zealand
END:VEVENT
END:VCALENDAR