BEGIN:VCALENDAR
VERSION:2.0
PRODID:-//Fairhall School - ECPv5.2.1//NONSGML v1.0//EN
CALSCALE:GREGORIAN
METHOD:PUBLISH
X-WR-CALNAME:Fairhall School
X-ORIGINAL-URL:https://fairhall.school.nz
X-WR-CALDESC:Events for Fairhall School
BEGIN:VTIMEZONE
TZID:Pacific/Auckland
BEGIN:STANDARD
TZOFFSETFROM:+1300
TZOFFSETTO:+1200
TZNAME:NZST
DTSTART:20180331T140000
END:STANDARD
BEGIN:DAYLIGHT
TZOFFSETFROM:+1200
TZOFFSETTO:+1300
TZNAME:NZDT
DTSTART:20180929T140000
END:DAYLIGHT
END:VTIMEZONE
BEGIN:VEVENT
DTSTART;TZID=Pacific/Auckland:20181213T183000
DTEND;TZID=Pacific/Auckland:20181213T203000
DTSTAMP:20210120T183248
CREATED:20181212T102411Z
LAST-MODIFIED:20181212T105144Z
UID:338-1544725800-1544733000@fairhall.school.nz
SUMMARY:End of Year Graduation Ceremony 
DESCRIPTION:
URL:https://fairhall.school.nz/event/end-of-year-graduation-ceremony/
LOCATION:ASB Theatre\, 2 Hutcheson St\, Mayfield\, Blenheim\, Marlborough\, 7201\, New Zealand
CATEGORIES:School events
END:VEVENT
END:VCALENDAR